BEGIN:VCALENDAR
VERSION:2.0
PRODID:-//KCV Mannheim - ECPv6.13.0//NONSGML v1.0//EN
CALSCALE:GREGORIAN
METHOD:PUBLISH
X-ORIGINAL-URL:https://kcv-mannheim.de
X-WR-CALDESC:Veranstaltungen für KCV Mannheim
REFRESH-INTERVAL;VALUE=DURATION:PT1H
X-Robots-Tag:noindex
X-PUBLISHED-TTL:PT1H
BEGIN:VTIMEZONE
TZID:Europe/Berlin
BEGIN:DAYLIGHT
TZOFFSETFROM:+0100
TZOFFSETTO:+0200
TZNAME:CEST
DTSTART:20260329T010000
END:DAYLIGHT
BEGIN:STANDARD
TZOFFSETFROM:+0200
TZOFFSETTO:+0100
TZNAME:CET
DTSTART:20261025T010000
END:STANDARD
END:VTIMEZONE
BEGIN:VEVENT
DTSTART;TZID=Europe/Berlin:20260111T150000
DTEND;TZID=Europe/Berlin:20260111T170000
DTSTAMP:20260422T104516
CREATED:20251025T084503Z
LAST-MODIFIED:20251025T084503Z
UID:20926-1768143600-1768150800@kcv-mannheim.de
SUMMARY:Praise the Lord
DESCRIPTION:Benefiz-Konzert in St. Aegidius \nMännerchor von Chorvereinigung/Liederhalle \nMatthias Fischer\, Solist \nJürgen Zink\, Solist – Moderator \nChr. Dobirr\, Drums \nBläserquintett Mannheimer Polizeiorchester Ltg. Wolfgang Rothenheber \nMusikalische Gesamtleitung: Dietrich Edinger \n  \nEintritt frei – Spendenerlös für die Aktion WIR WOLLEN HELFEN und die Tafel Mannheim \nwww.chorvereinigung.de
URL:https://kcv-mannheim.de/event/praise-the-lord-3/
LOCATION:Kirche St. Aegigius\, Stengelstr. 1\, Seckenheim\, Stengelstr. 1\, Mannheim Seckenheim\, Baden Württemberg\, 68239\, Germany
END:VEVENT
END:VCALENDAR